BEGIN:VCALENDAR
VERSION:2.0
PRODID:-//Aquatoriet - ECPv6.15.20//NONSGML v1.0//EN
CALSCALE:GREGORIAN
METHOD:PUBLISH
X-ORIGINAL-URL:https://aquatoriet.se
X-WR-CALDESC:Händelser för Aquatoriet
REFRESH-INTERVAL;VALUE=DURATION:PT1H
X-Robots-Tag:noindex
X-PUBLISHED-TTL:PT1H
BEGIN:VTIMEZONE
TZID:Europe/Stockholm
BEGIN:DAYLIGHT
TZOFFSETFROM:+0100
TZOFFSETTO:+0200
TZNAME:CEST
DTSTART:20160327T010000
END:DAYLIGHT
BEGIN:STANDARD
TZOFFSETFROM:+0200
TZOFFSETTO:+0100
TZNAME:CET
DTSTART:20161030T010000
END:STANDARD
BEGIN:DAYLIGHT
TZOFFSETFROM:+0100
TZOFFSETTO:+0200
TZNAME:CEST
DTSTART:20170326T010000
END:DAYLIGHT
BEGIN:STANDARD
TZOFFSETFROM:+0200
TZOFFSETTO:+0100
TZNAME:CET
DTSTART:20171029T010000
END:STANDARD
BEGIN:DAYLIGHT
TZOFFSETFROM:+0100
TZOFFSETTO:+0200
TZNAME:CEST
DTSTART:20180325T010000
END:DAYLIGHT
BEGIN:STANDARD
TZOFFSETFROM:+0200
TZOFFSETTO:+0100
TZNAME:CET
DTSTART:20181028T010000
END:STANDARD
END:VTIMEZONE
BEGIN:VEVENT
DTSTART;TZID=Europe/Stockholm:20170818T130000
DTEND;TZID=Europe/Stockholm:20170818T134500
DTSTAMP:20260420T194808
CREATED:20170806T071904Z
LAST-MODIFIED:20170806T071904Z
UID:887-1503061200-1503063900@aquatoriet.se
SUMMARY:360 grader Göteborg
DESCRIPTION:Klättra upp i Gamla Vattentornet och se den milsvida utsikten över Göteborg\, älven och skärgården. Vid bra väder ser man ända till Vinga Fyr.
URL:https://aquatoriet.se/event/360-grader-goteborg-32/
END:VEVENT
BEGIN:VEVENT
DTSTART;TZID=Europe/Stockholm:20170817T130000
DTEND;TZID=Europe/Stockholm:20170817T134500
DTSTAMP:20260420T194808
CREATED:20170806T071052Z
LAST-MODIFIED:20170806T071052Z
UID:883-1502974800-1502977500@aquatoriet.se
SUMMARY:360 grader Göteborg
DESCRIPTION:Klättra upp i Gamla Vattentornet och se den milsvida utsikten över Göteborg\, älven och skärgården. Vid bra väder ser man ända till Vinga Fyr.
URL:https://aquatoriet.se/event/360-grader-goteborg-31/
END:VEVENT
BEGIN:VEVENT
DTSTART;TZID=Europe/Stockholm:20170816T130000
DTEND;TZID=Europe/Stockholm:20170816T134500
DTSTAMP:20260420T194808
CREATED:20170806T070623Z
LAST-MODIFIED:20170806T070623Z
UID:879-1502888400-1502891100@aquatoriet.se
SUMMARY:360 grader Göteborg
DESCRIPTION:Klättra upp i Gamla Vattentornet och se den milsvida utsikten över Göteborg\, älven och skärgården. Vid bra väder ser man ända till Vinga Fyr.
URL:https://aquatoriet.se/event/360-grader-goteborg-30/
LOCATION:Gamla vattentornet\, August Kobbs stig\, Göteborg\, Sverige
END:VEVENT
BEGIN:VEVENT
DTSTART;TZID=Europe/Stockholm:20170811T130000
DTEND;TZID=Europe/Stockholm:20170811T134500
DTSTAMP:20260420T194808
CREATED:20170806T065403Z
LAST-MODIFIED:20170806T065932Z
UID:874-1502456400-1502459100@aquatoriet.se
SUMMARY:360 grader Göteborg
DESCRIPTION:Klättra upp i Gamla Vattentornet och se den milsvida utsikten över Göteborg\, älven och skärgården. Vid bra väder ser man ända till Vinga Fyr.
URL:https://aquatoriet.se/event/360-grader-goteborg-29/
LOCATION:Gamla vattentornet\, August Kobbs stig\, Göteborg\, Sverige
CATEGORIES:360 grader Göteborg Barn,360 grader Göteborg Vuxen
END:VEVENT
BEGIN:VEVENT
DTSTART;TZID=Europe/Stockholm:20170810T130000
DTEND;TZID=Europe/Stockholm:20170810T134500
DTSTAMP:20260420T194808
CREATED:20170731T064700Z
LAST-MODIFIED:20170731T084850Z
UID:847-1502370000-1502372700@aquatoriet.se
SUMMARY:360 grader Göteborg
DESCRIPTION:Klättra upp i Gamla Vattentornet och se den milsvida utsikten över Göteborg\, älven och skärgården. Vid bra väder ser man ända till Vinga Fyr.
URL:https://aquatoriet.se/event/360-grader-goteborg-27/
LOCATION:Gamla vattentornet\, August Kobbs stig\, Göteborg\, Sverige
CATEGORIES:360 grader Göteborg Barn,360 grader Göteborg Vuxen
END:VEVENT
BEGIN:VEVENT
DTSTART;TZID=Europe/Stockholm:20170809T130000
DTEND;TZID=Europe/Stockholm:20170809T134500
DTSTAMP:20260420T194808
CREATED:20170731T064444Z
LAST-MODIFIED:20170731T084546Z
UID:845-1502283600-1502286300@aquatoriet.se
SUMMARY:360 grader Göteborg
DESCRIPTION:Klättra upp i Gamla Vattentornet och se den milsvida utsikten över Göteborg\, älven och skärgården. Vid bra väder ser man ända till Vinga Fyr.
URL:https://aquatoriet.se/event/360-grader-goteborg-26/
LOCATION:Gamla vattentornet\, August Kobbs stig\, Göteborg\, Sverige
CATEGORIES:360 grader Göteborg Barn,360 grader Göteborg Vuxen
END:VEVENT
BEGIN:VEVENT
DTSTART;TZID=Europe/Stockholm:20170804T130000
DTEND;TZID=Europe/Stockholm:20170804T134500
DTSTAMP:20260420T194808
CREATED:20170724T152620Z
LAST-MODIFIED:20170731T064239Z
UID:830-1501851600-1501854300@aquatoriet.se
SUMMARY:360 grader Göteborg
DESCRIPTION:Klättra upp i Gamla Vattentornet och se den milsvida utsikten över Göteborg\, älven och skärgården. Vid bra väder ser man ända till Vinga Fyr.
URL:https://aquatoriet.se/event/360-grader-goteborg-25/
LOCATION:Gamla vattentornet\, August Kobbs stig\, Göteborg\, Sverige
CATEGORIES:360 grader Göteborg Barn,360 grader Göteborg Vuxen
END:VEVENT
BEGIN:VEVENT
DTSTART;TZID=Europe/Stockholm:20170801T130000
DTEND;TZID=Europe/Stockholm:20170801T134500
DTSTAMP:20260420T194808
CREATED:20170731T063444Z
LAST-MODIFIED:20170731T084021Z
UID:842-1501592400-1501595100@aquatoriet.se
SUMMARY:360 grader Göteborg
DESCRIPTION:Klättra upp i Gamla Vattentornet och se den milsvida utsikten över Göteborg\, älven och skärgården. Vid bra väder ser man ända till Vinga Fyr.
URL:https://aquatoriet.se/event/842/
LOCATION:Gamla vattentornet\, August Kobbs stig\, Göteborg\, Sverige
CATEGORIES:360 grader Göteborg Barn,360 grader Göteborg Vuxen
END:VEVENT
BEGIN:VEVENT
DTSTART;TZID=Europe/Stockholm:20170731T130000
DTEND;TZID=Europe/Stockholm:20170731T134500
DTSTAMP:20260420T194808
CREATED:20170724T152236Z
LAST-MODIFIED:20170724T152236Z
UID:826-1501506000-1501508700@aquatoriet.se
SUMMARY:360 grader Göteborg
DESCRIPTION:Klättra upp i Gamla Vattentornet och se den milsvida utsikten över Göteborg\, älven och skärgården. Vid bra väder ser man ända till Vinga Fyr.
URL:https://aquatoriet.se/event/360-grader-goteborg-24/
LOCATION:Gamla vattentornet\, August Kobbs stig\, Göteborg\, Sverige
END:VEVENT
BEGIN:VEVENT
DTSTART;TZID=Europe/Stockholm:20170727T133000
DTEND;TZID=Europe/Stockholm:20170727T134500
DTSTAMP:20260420T194808
CREATED:20170724T133236Z
LAST-MODIFIED:20170724T133315Z
UID:820-1501162200-1501163100@aquatoriet.se
SUMMARY:360 grader Göteborg
DESCRIPTION:Klättra upp i Gamla Vattentornet och se den milsvida utsikten över Göteborg\, älven och skärgården. Vid bra väder ser man ända till Vinga Fyr.
URL:https://aquatoriet.se/event/820/
LOCATION:Gamla vattentornet\, August Kobbs stig\, Göteborg\, Sverige
END:VEVENT
BEGIN:VEVENT
DTSTART;TZID=Europe/Stockholm:20170726T130000
DTEND;TZID=Europe/Stockholm:20170726T134500
DTSTAMP:20260420T194808
CREATED:20170718T133831Z
LAST-MODIFIED:20170718T133831Z
UID:809-1501074000-1501076700@aquatoriet.se
SUMMARY:360 grader Göteborg
DESCRIPTION:Klättra upp i Gamla Vattentornet och se den milsvida utsikten över Göteborg\, älven och skärgården. Vid bra väder ser man ända till Vinga Fyr.
URL:https://aquatoriet.se/event/360-grader-goteborg-23/
LOCATION:Gamla vattentornet\, August Kobbs stig\, Göteborg\, Sverige
END:VEVENT
BEGIN:VEVENT
DTSTART;TZID=Europe/Stockholm:20170725T130000
DTEND;TZID=Europe/Stockholm:20170725T134500
DTSTAMP:20260420T194808
CREATED:20170718T133220Z
LAST-MODIFIED:20170718T133220Z
UID:805-1500987600-1500990300@aquatoriet.se
SUMMARY:360 grader Göteborg
DESCRIPTION:Klättra upp i Gamla Vattentornet och se den milsvida utsikten över Göteborg\, älven och skärgården. Vid bra väder ser man ända till Vinga Fyr.
URL:https://aquatoriet.se/event/360-grader-goteborg-22/
LOCATION:Gamla vattentornet\, August Kobbs stig\, Göteborg\, Sverige
END:VEVENT
BEGIN:VEVENT
DTSTART;TZID=Europe/Stockholm:20170720T130000
DTEND;TZID=Europe/Stockholm:20170720T134500
DTSTAMP:20260420T194808
CREATED:20170718T132311Z
LAST-MODIFIED:20170718T132311Z
UID:801-1500555600-1500558300@aquatoriet.se
SUMMARY:360 grader Göteborg
DESCRIPTION:Klättra upp i Gamla Vattentornet och se den milsvida utsikten över Göteborg\, älven och skärgården. Vid bra väder ser man ända till Vinga Fyr
URL:https://aquatoriet.se/event/360-grader-goteborg-21/
LOCATION:Gamla vattentornet\, August Kobbs stig\, Göteborg\, Sverige
END:VEVENT
BEGIN:VEVENT
DTSTART;TZID=Europe/Stockholm:20170718T130000
DTEND;TZID=Europe/Stockholm:20170718T134500
DTSTAMP:20260420T194808
CREATED:20170703T103743Z
LAST-MODIFIED:20170703T103743Z
UID:777-1500382800-1500385500@aquatoriet.se
SUMMARY:360 grader Göteborg
DESCRIPTION:Klättra upp i Gamla Vattentornet och se den milsvida utsikten över Göteborg\, älven och skärgården. Vid bra väder ser man ända till Vinga Fyr.
URL:https://aquatoriet.se/event/360-grader-goteborg-20/
END:VEVENT
BEGIN:VEVENT
DTSTART;TZID=Europe/Stockholm:20170717T130000
DTEND;TZID=Europe/Stockholm:20170717T134500
DTSTAMP:20260420T194808
CREATED:20170703T095654Z
LAST-MODIFIED:20170703T095654Z
UID:773-1500296400-1500299100@aquatoriet.se
SUMMARY:360 grader Göteborg
DESCRIPTION:Klättra upp i Gamla Vattentornet och se den milsvida utsikten över Göteborg\, älven och skärgården. Vid bra väder ser man ända till Vinga Fyr.
URL:https://aquatoriet.se/event/360-grader-goteborg-19/
LOCATION:Gamla vattentornet\, August Kobbs stig\, Göteborg\, Sverige
END:VEVENT
BEGIN:VEVENT
DTSTART;TZID=Europe/Stockholm:20170711T130000
DTEND;TZID=Europe/Stockholm:20170711T134500
DTSTAMP:20260420T194808
CREATED:20170731T064918Z
LAST-MODIFIED:20170731T064918Z
UID:849-1499778000-1499780700@aquatoriet.se
SUMMARY:360 grader göteborg
DESCRIPTION:Klättra upp i Gamla Vattentornet och se den milsvida utsikten över Göteborg\, älven och skärgården. Vid bra väder ser man ända till Vinga Fyr.
URL:https://aquatoriet.se/event/360-grader-goteborg-28/
CATEGORIES:360 grader Göteborg Barn,360 grader Göteborg Vuxen
END:VEVENT
BEGIN:VEVENT
DTSTART;TZID=Europe/Stockholm:20170711T130000
DTEND;TZID=Europe/Stockholm:20170711T134500
DTSTAMP:20260420T194808
CREATED:20170703T093217Z
LAST-MODIFIED:20170703T093217Z
UID:769-1499778000-1499780700@aquatoriet.se
SUMMARY:360 grader Göteborg
DESCRIPTION:Klättra upp i Gamla Vattentornet och se den milsvida utsikten över Göteborg\, älven och skärgården. Vid bra väder ser man ända till Vinga Fyr.
URL:https://aquatoriet.se/event/360-grader-goteborg-18/
LOCATION:Gamla vattentornet\, August Kobbs stig\, Göteborg\, Sverige
END:VEVENT
BEGIN:VEVENT
DTSTART;TZID=Europe/Stockholm:20170710T130000
DTEND;TZID=Europe/Stockholm:20170710T134500
DTSTAMP:20260420T194808
CREATED:20170703T092759Z
LAST-MODIFIED:20170703T092759Z
UID:765-1499691600-1499694300@aquatoriet.se
SUMMARY:360 grader Göteborg
DESCRIPTION:Klättra upp i Gamla Vattentornet och se den milsvida utsikten över Göteborg\, älven och skärgården. Vid bra väder ser man ända till Vinga Fyr.
URL:https://aquatoriet.se/event/360-grader-goteborg-17/
LOCATION:Gamla vattentornet\, August Kobbs stig\, Göteborg\, Sverige
END:VEVENT
BEGIN:VEVENT
DTSTART;TZID=Europe/Stockholm:20170709T130000
DTEND;TZID=Europe/Stockholm:20170709T134500
DTSTAMP:20260420T194808
CREATED:20170703T090702Z
LAST-MODIFIED:20170703T090702Z
UID:761-1499605200-1499607900@aquatoriet.se
SUMMARY:360 grader Göteborg
DESCRIPTION:Klättra upp i Gamla Vattentornet och se den milsvida utsikten över Göteborg\, älven och skärgården. Vid bra väder ser man ända till Vinga Fyr.
URL:https://aquatoriet.se/event/360-grader-goteborg-16/
LOCATION:Gamla vattentornet\, August Kobbs stig\, Göteborg\, Sverige
END:VEVENT
BEGIN:VEVENT
DTSTART;TZID=Europe/Stockholm:20170706T130000
DTEND;TZID=Europe/Stockholm:20170706T134500
DTSTAMP:20260420T194808
CREATED:20170703T083026Z
LAST-MODIFIED:20170703T085532Z
UID:755-1499346000-1499348700@aquatoriet.se
SUMMARY:360 grader Göteborg
DESCRIPTION:Klättra upp i Gamla Vattentornet och se den milsvida utsikten över Göteborg\, älven och skärgården. Vid bra väder ser man ända till Vinga Fyr.
URL:https://aquatoriet.se/event/360-grader-goteborg-15/
LOCATION:Gamla vattentornet\, August Kobbs stig\, Göteborg\, Sverige
END:VEVENT
BEGIN:VEVENT
DTSTART;TZID=Europe/Stockholm:20170704T130000
DTEND;TZID=Europe/Stockholm:20170704T134500
DTSTAMP:20260420T194808
CREATED:20170703T055028Z
LAST-MODIFIED:20170703T081919Z
UID:749-1499173200-1499175900@aquatoriet.se
SUMMARY:360 grader Göteborg
DESCRIPTION:Klättra upp i Gamla Vattentornet och se den milsvida utsikten över Göteborg\, älven och skärgården. Vid bra väder ser man ända till Vinga Fyr.
URL:https://aquatoriet.se/event/360-grader-goteborg-14/
LOCATION:Gamla vattentornet\, August Kobbs stig\, Göteborg\, Sverige
CATEGORIES:360 grader Göteborg Barn,360 grader Göteborg Vuxen
END:VEVENT
BEGIN:VEVENT
DTSTART;TZID=Europe/Stockholm:20170703T130000
DTEND;TZID=Europe/Stockholm:20170703T134500
DTSTAMP:20260420T194808
CREATED:20170703T053757Z
LAST-MODIFIED:20170703T053757Z
UID:745-1499086800-1499089500@aquatoriet.se
SUMMARY:360 grader Göteborg
DESCRIPTION:Klättra upp i Gamla Vattentornet och se den milsvida utsikten över Göteborg\, älven och skärgården. Vid bra väder ser man ända till Vinga Fyr.
URL:https://aquatoriet.se/event/360-grader-goteborg-13/
LOCATION:Gamla vattentornet\, August Kobbs stig\, Göteborg\, Sverige
END:VEVENT
BEGIN:VEVENT
DTSTART;TZID=Europe/Stockholm:20170629T130000
DTEND;TZID=Europe/Stockholm:20170629T134500
DTSTAMP:20260420T194808
CREATED:20170619T125719Z
LAST-MODIFIED:20170619T125719Z
UID:738-1498741200-1498743900@aquatoriet.se
SUMMARY:360 GRADER GÖTEBORG
DESCRIPTION:Eva Bjärlund guidar i Gamla Vattentornet och visar den fantastiska utsikten över Göteborg\, älven och skärgården. Visningen startar vid Gamla Vattentornet i Slottsskogen och vi tar emot kontanter eller Swish. Vill ni vara säker på att få plats så köp via Paypal här på webbsidan.
URL:https://aquatoriet.se/event/360-grader-goteborg-12/
LOCATION:Gamla vattentornet\, August Kobbs stig\, Göteborg\, Sverige
END:VEVENT
BEGIN:VEVENT
DTSTART;TZID=Europe/Stockholm:20170628T130000
DTEND;TZID=Europe/Stockholm:20170628T134500
DTSTAMP:20260420T194808
CREATED:20170619T124849Z
LAST-MODIFIED:20170619T124849Z
UID:734-1498654800-1498657500@aquatoriet.se
SUMMARY:360 GRADER GÖTEBORG
DESCRIPTION:Eva Bjärlund guidar i Gamla Vattentornet och visar den fantastiska utsikten över Göteborg\, älven och skärgården. Visningen startar vid Gamla Vattentornet i Slottsskogen och vi tar emot kontanter eller Swish. Vill ni vara säker på att få plats så köp via Paypal här på webbsidan.
URL:https://aquatoriet.se/event/360-grader-goteborg-11/
LOCATION:Gamla vattentornet\, August Kobbs stig\, Göteborg\, Sverige
END:VEVENT
BEGIN:VEVENT
DTSTART;TZID=Europe/Stockholm:20170627T130000
DTEND;TZID=Europe/Stockholm:20170627T134500
DTSTAMP:20260420T194808
CREATED:20170619T123615Z
LAST-MODIFIED:20170619T123615Z
UID:730-1498568400-1498571100@aquatoriet.se
SUMMARY:360 GRADER GÖTEBORG
DESCRIPTION:Eva Bjärlund guidar i Gamla Vattentornet och visar den fantastiska utsikten över Göteborg\, älven och skärgården. Visningen startar vid Gamla Vattentornet i slottsskogen och vi tar emot kontanter eller Swish. Vill ni vara säker på att få plats så köp via Paypal här på webbsidan.
URL:https://aquatoriet.se/event/360-grader-goteborg-10/
LOCATION:Gamla vattentornet\, August Kobbs stig\, Göteborg\, Sverige
END:VEVENT
BEGIN:VEVENT
DTSTART;TZID=Europe/Stockholm:20170622T130000
DTEND;TZID=Europe/Stockholm:20170622T134500
DTSTAMP:20260420T194808
CREATED:20170619T122007Z
LAST-MODIFIED:20170619T122007Z
UID:726-1498136400-1498139100@aquatoriet.se
SUMMARY:360 GRADER GÖTEBORG
DESCRIPTION:Eva Bjärlund guidar i Gamla Vattentornet och visar den fantastiska utsikten över Göteborg\, älven och skärgården. Visningen startar vid Gamla Vattentornet i slottsskogen och vi tar emot kontanter eller Swish. Vill ni vara säker på att få plats så köp via Paypal här på webbsidan.
URL:https://aquatoriet.se/event/360-grader-goteborg-9/
LOCATION:Gamla vattentornet\, August Kobbs stig\, Göteborg\, Sverige
END:VEVENT
BEGIN:VEVENT
DTSTART;TZID=Europe/Stockholm:20170621T130000
DTEND;TZID=Europe/Stockholm:20170621T134500
DTSTAMP:20260420T194808
CREATED:20170619T120637Z
LAST-MODIFIED:20170619T120637Z
UID:722-1498050000-1498052700@aquatoriet.se
SUMMARY:360 GRADER GÖTEBORG
DESCRIPTION:Eva Bjärlund guidar i Gamla Vattentornet och visar den fantastiska utsikten över Göteborg\, älven och skärgården. Visningen startar vid Gamla Vattentornet i slottsskogen och vi tar emot kontanter eller Swish. Vill ni vara säker på att få plats så köp via Paypal här på webbsidan.
URL:https://aquatoriet.se/event/360-grader-goteborg-8/
LOCATION:Gamla vattentornet\, August Kobbs stig\, Göteborg\, Sverige
END:VEVENT
BEGIN:VEVENT
DTSTART;TZID=Europe/Stockholm:20170620T130000
DTEND;TZID=Europe/Stockholm:20170620T134500
DTSTAMP:20260420T194808
CREATED:20170612T185601Z
LAST-MODIFIED:20170612T185601Z
UID:701-1497963600-1497966300@aquatoriet.se
SUMMARY:360 GRADER GÖTEBORG
DESCRIPTION:Eva Bjärlund guidar i Gamla Vattentornet och visar den fantastiska utsikten över Göteborg\, älven och skärgården.
URL:https://aquatoriet.se/event/360-grader-goteborg-7/
END:VEVENT
BEGIN:VEVENT
DTSTART;TZID=Europe/Stockholm:20170617T130000
DTEND;TZID=Europe/Stockholm:20170617T134500
DTSTAMP:20260420T194808
CREATED:20170612T183216Z
LAST-MODIFIED:20170612T183216Z
UID:697-1497704400-1497707100@aquatoriet.se
SUMMARY:360 GRADER GÖTEBORG
DESCRIPTION:Eva Bjärlund guidar i Gamla Vattentornet och visar den fantastiska utsikten över Göteborg\, älven och skärgården.
URL:https://aquatoriet.se/event/360-grader-goteborg-6/
END:VEVENT
BEGIN:VEVENT
DTSTART;TZID=Europe/Stockholm:20170616T130000
DTEND;TZID=Europe/Stockholm:20170616T134500
DTSTAMP:20260420T194808
CREATED:20170612T182356Z
LAST-MODIFIED:20170612T182356Z
UID:693-1497618000-1497620700@aquatoriet.se
SUMMARY:360 GRADER GÖTEBORG
DESCRIPTION:Eva Bjärlund guidar i Gamla Vattentornet och visar den fantastiska utsikten över Göteborg\, älven och skärgården.
URL:https://aquatoriet.se/event/360-grader-goteborg-5/
END:VEVENT
END:VCALENDAR